BEGIN:VCALENDAR
VERSION:2.0
PRODID:-//hco - ECPv6.15.11//NONSGML v1.0//EN
CALSCALE:GREGORIAN
METHOD:PUBLISH
X-ORIGINAL-URL:https://hcongo.org/en/
X-WR-CALDESC:Events for hco
REFRESH-INTERVAL;VALUE=DURATION:PT1H
X-Robots-Tag:noindex
X-PUBLISHED-TTL:PT1H
BEGIN:VTIMEZONE
TZID:UTC
BEGIN:STANDARD
TZOFFSETFROM:+0000
TZOFFSETTO:+0000
TZNAME:UTC
DTSTART:20220101T000000
END:STANDARD
END:VTIMEZONE
BEGIN:VEVENT
DTSTART;TZID=UTC:20231021T153000
DTEND;TZID=UTC:20231021T153000
DTSTAMP:20260419T175454
CREATED:20200909T040219Z
LAST-MODIFIED:20230828T151937Z
UID:19241-1697902200-1697902200@hcongo.org
SUMMARY:Atonement Project
DESCRIPTION:Atonement for sins and eraser for them\nIn compliance with the guidance of our law\, the team of the Humanitarian Care Organization\, in cooperation with the Swedish En Hjälpande Hand\, delivers penances to the needy and displaced in the camps of northern Syria to the deserving families.
URL:https://hcongo.org/en/events/uk-will-have-school-lesson/
LOCATION:Krispy Kreme\, St. Louis\, 63129
CATEGORIES:Children,Vaccine
ATTACH;FMTTYPE=image/jpeg:https://hcongo.org/wp-content/uploads/2023/08/290022056_3175545759372183_3647721207749376429_n-1.jpg
END:VEVENT
BEGIN:VEVENT
DTSTART;TZID=UTC:20230909T120000
DTEND;TZID=UTC:20230909T120000
DTSTAMP:20260419T175454
CREATED:20200909T040226Z
LAST-MODIFIED:20200909T040226Z
UID:19096-1694260800-1694260800@hcongo.org
SUMMARY:Provide Pure Water And Fresh Food For Syrian
DESCRIPTION:I have traced the Rebel spies to her. Now she is my only link to finding their secret base. What?! I care. So\, what do you think of her\, Han? The Force is strong with this one. I have you now. But with the blast shield down\, I can’t even see! How am I supposed to fight? Red Five standing by.
URL:https://hcongo.org/en/events/provide-pure-water-and-fresh-food-for-syrian/
LOCATION:Musee D’Orsay\, Paris\, 75007\, France
CATEGORIES:Helping
ATTACH;FMTTYPE=image/jpeg:https://hcongo.org/wp-content/uploads/2023/08/21368630_1945190285741076_7690946858304285232_o-2.jpg
END:VEVENT
END:VCALENDAR